BEGIN:VCALENDAR
VERSION:2.0
PRODID:-// - ECPv5.14.2.1//NONSGML v1.0//EN
CALSCALE:GREGORIAN
METHOD:PUBLISH
X-ORIGINAL-URL:http://clubdegolfzacatecas.com
X-WR-CALDESC:Eventos para 
BEGIN:VTIMEZONE
TZID:America/Chicago
BEGIN:DAYLIGHT
TZOFFSETFROM:-0600
TZOFFSETTO:-0500
TZNAME:CDT
DTSTART:20230312T080000
END:DAYLIGHT
BEGIN:STANDARD
TZOFFSETFROM:-0500
TZOFFSETTO:-0600
TZNAME:CST
DTSTART:20231105T070000
END:STANDARD
END:VTIMEZONE
BEGIN:VEVENT
DTSTART;TZID=America/Chicago:20230731T090000
DTEND;TZID=America/Chicago:20230819T140000
DTSTAMP:20260423T000909
CREATED:20230724T192450Z
LAST-MODIFIED:20230724T192450Z
UID:3487-1690794000-1692453600@clubdegolfzacatecas.com
SUMMARY:CURSO DE VERANO
DESCRIPTION:¡CURSO DE VERANO 2023!\n\n\nFecha del curso: del 31 al julio al 18 de agosto\n\n\nNotas importantes:\n Inscripciones abiertas exclusivas a socios del 14 al 30 de junio.\n Inscripciones abiertas a invitados de socios del 1 al 21 de julio.\n Aparta tu lugar con el 50% de tu inscripción.\nSi tu niño o niña requiere alimentación especial deberás enviarlo con lunch .
URL:http://clubdegolfzacatecas.com/event/curso-de-verano/
LOCATION:Club de Golf Zacatecas\, Fracc Lomas de Bernardez\, Guadalupe\, Zacatecas\, 98610\, Mexico
END:VEVENT
END:VCALENDAR