BEGIN:VCALENDAR
VERSION:2.0
PRODID:-// - ECPv5.14.2.1//NONSGML v1.0//EN
CALSCALE:GREGORIAN
METHOD:PUBLISH
X-ORIGINAL-URL:http://clubdegolfzacatecas.com
X-WR-CALDESC:Eventos para 
BEGIN:VTIMEZONE
TZID:America/Chicago
BEGIN:DAYLIGHT
TZOFFSETFROM:-0600
TZOFFSETTO:-0500
TZNAME:CDT
DTSTART:20220313T080000
END:DAYLIGHT
BEGIN:STANDARD
TZOFFSETFROM:-0500
TZOFFSETTO:-0600
TZNAME:CST
DTSTART:20221106T070000
END:STANDARD
END:VTIMEZONE
BEGIN:VEVENT
DTSTART;VALUE=DATE:20221021
DTEND;VALUE=DATE:20221024
DTSTAMP:20260423T172812
CREATED:20221014T150125Z
LAST-MODIFIED:20221014T150125Z
UID:3294-1666310400-1666569599@clubdegolfzacatecas.com
SUMMARY:TORNEO DE INAUGURACIÓN DE LAS CANCHAS DE PÁDEL
DESCRIPTION:
URL:http://clubdegolfzacatecas.com/event/torneo-de-inauguracion-de-las-canchas-de-padel/
LOCATION:Club de Golf Zacatecas\, Fracc Lomas de Bernardez\, Guadalupe\, Zacatecas\, 98610\, Mexico
END:VEVENT
END:VCALENDAR