BEGIN:VCALENDAR
VERSION:2.0
PRODID:-// - ECPv5.14.2.1//NONSGML v1.0//EN
CALSCALE:GREGORIAN
METHOD:PUBLISH
X-ORIGINAL-URL:http://clubdegolfzacatecas.com
X-WR-CALDESC:Eventos para 
BEGIN:VTIMEZONE
TZID:America/Chicago
BEGIN:DAYLIGHT
TZOFFSETFROM:-0600
TZOFFSETTO:-0500
TZNAME:CDT
DTSTART:20170312T080000
END:DAYLIGHT
BEGIN:STANDARD
TZOFFSETFROM:-0500
TZOFFSETTO:-0600
TZNAME:CST
DTSTART:20171105T070000
END:STANDARD
END:VTIMEZONE
BEGIN:VEVENT
DTSTART;TZID=America/Chicago:20171122T080000
DTEND;TZID=America/Chicago:20171124T170000
DTSTAMP:20260424T084530
CREATED:20171113T000914Z
LAST-MODIFIED:20171113T000914Z
UID:2584-1511337600-1511542800@clubdegolfzacatecas.com
SUMMARY:Torneo Relámpago de Fútbol
DESCRIPTION:
URL:http://clubdegolfzacatecas.com/event/torneo-relampago-de-futbol/
LOCATION:Club de Golf Zacatecas\, Fracc Lomas de Bernardez\, Guadalupe\, Zacatecas\, 98610\, Mexico
END:VEVENT
END:VCALENDAR