BEGIN:VCALENDAR
VERSION:2.0
PRODID:-// - ECPv5.14.2.1//NONSGML v1.0//EN
CALSCALE:GREGORIAN
METHOD:PUBLISH
X-ORIGINAL-URL:http://clubdegolfzacatecas.com
X-WR-CALDESC:Eventos para 
BEGIN:VTIMEZONE
TZID:America/Chicago
BEGIN:DAYLIGHT
TZOFFSETFROM:-0600
TZOFFSETTO:-0500
TZNAME:CDT
DTSTART:20230312T080000
END:DAYLIGHT
BEGIN:STANDARD
TZOFFSETFROM:-0500
TZOFFSETTO:-0600
TZNAME:CST
DTSTART:20231105T070000
END:STANDARD
END:VTIMEZONE
BEGIN:VEVENT
DTSTART;TZID=America/Chicago:20230111T070000
DTEND;TZID=America/Chicago:20230114T220000
DTSTAMP:20260423T044739
CREATED:20230119T155239Z
LAST-MODIFIED:20230119T155251Z
UID:3367-1673420400-1673733600@clubdegolfzacatecas.com
SUMMARY:TORNEO DE GOLF EL GOLFISTA DE PLATA 2022
DESCRIPTION:
URL:http://clubdegolfzacatecas.com/event/torneo-de-golf-el-golfista-de-plata/
LOCATION:Club de Golf Zacatecas\, Fracc Lomas de Bernardez\, Guadalupe\, Zacatecas\, 98610\, Mexico
END:VEVENT
END:VCALENDAR