BEGIN:VCALENDAR
VERSION:2.0
PRODID:-// - ECPv5.14.2.1//NONSGML v1.0//EN
CALSCALE:GREGORIAN
METHOD:PUBLISH
X-ORIGINAL-URL:http://clubdegolfzacatecas.com
X-WR-CALDESC:Eventos para 
BEGIN:VTIMEZONE
TZID:America/Chicago
BEGIN:DAYLIGHT
TZOFFSETFROM:-0600
TZOFFSETTO:-0500
TZNAME:CDT
DTSTART:20180311T080000
END:DAYLIGHT
BEGIN:STANDARD
TZOFFSETFROM:-0500
TZOFFSETTO:-0600
TZNAME:CST
DTSTART:20181104T070000
END:STANDARD
END:VTIMEZONE
BEGIN:VEVENT
DTSTART;VALUE=DATE:20181127
DTEND;VALUE=DATE:20181201
DTSTAMP:20260423T101033
CREATED:20181111T215526Z
LAST-MODIFIED:20181111T222128Z
UID:2663-1543276800-1543622399@clubdegolfzacatecas.com
SUMMARY:Torneo de Fútbol
DESCRIPTION:Inscripciones\nQuedan abiertas a partir de la presente publicación hasta el día de la junta previa que llevará a cabo el Viernes 23 de Noviembre del 2018. Teniendo como límite 12 equipos. \nCategorias varonil y libre.\n\nParticipantes\nPodrán jugar socios del club y gente externa con un cupo máximo de 10 jugadores por equipo.\n\nSistema de Juego\nEstará organizado en dos grupos de 6 equipos\, que a su vez se acomodarán mediante un sorteo\, se enfrentaran todos contra todos en cada grupo y pasarán a semifinales los dos primeros de cada uno para jugar posteriormente la final. Juegos a partir de las 6:00pm\n \nJunta PreviaSe llevará a cabo el día Viernes 23 de Noviembre en las instalaciones del Club en punto de las 7pm.\, en el transcurso de la misma se realizará el sorteo para conformación de los grupos. Equipo que no esté presente en la junta será descalificado y se le dará la oportunidad a un nuevo equipo.\n\nCosto\n$500 pesos por equipo. \n+100 por cada arbitraje (será cubierto antes de cada juego\, de lo contrario se perderá por default)\n\nPremios\nSe premiará con trofeos\, medallas y dinero en efectivo a los tres primeros lugares.\n1er lugar – $3\,000\n2do lugar – $2\,500\n3er lugar – $1\,500 \nTrofeo al campeón goleador\n \nSocio inscrito tendrá derecho a un boleto para la rifa de 4 medias anualidades el 6 de Diciembre
URL:http://clubdegolfzacatecas.com/event/torneo-de-futbol/
LOCATION:Club de Golf Zacatecas\, Fracc Lomas de Bernardez\, Guadalupe\, Zacatecas\, 98610\, Mexico
CATEGORIES:Fútbol
ATTACH;FMTTYPE=image/png:http://clubdegolfzacatecas.com/wp-content/uploads/2018/11/club-de-golf-zacatecas-torneo-de-futbol.png
END:VEVENT
END:VCALENDAR