BEGIN:VCALENDAR
VERSION:2.0
PRODID:-// - ECPv5.14.2.1//NONSGML v1.0//EN
CALSCALE:GREGORIAN
METHOD:PUBLISH
X-ORIGINAL-URL:http://clubdegolfzacatecas.com
X-WR-CALDESC:Eventos para 
BEGIN:VTIMEZONE
TZID:America/Chicago
BEGIN:DAYLIGHT
TZOFFSETFROM:-0600
TZOFFSETTO:-0500
TZNAME:CDT
DTSTART:20180311T080000
END:DAYLIGHT
BEGIN:STANDARD
TZOFFSETFROM:-0500
TZOFFSETTO:-0600
TZNAME:CST
DTSTART:20181104T070000
END:STANDARD
END:VTIMEZONE
BEGIN:VEVENT
DTSTART;VALUE=DATE:20181128
DTEND;VALUE=DATE:20181201
DTSTAMP:20260423T082643
CREATED:20181108T004555Z
LAST-MODIFIED:20181108T004654Z
UID:2659-1543363200-1543622399@clubdegolfzacatecas.com
SUMMARY:Torneo de Basquetbol
DESCRIPTION:Inscripciones\nQuedan abiertas a partir de la presente publicación hasta el día de la junta previa que llevará a cabo el Martes 27 de Noviembre del 2018.\n\nParticipantes\nPodrán jugar socios del club y gente externa con un mínimo de 7 y un máximo de 12 jugadores por equipo.\n\nSistema de competencia\nSerá de acuerdo a los equipos participantes. Juegos a partir de las 6pm\n \nJunta PreviaSe llevará a cabo el día Martes 27 de Noviembre en las instalaciones del Club en punto de las 7pm. Equipo que no esté presente en la junta será descalificado y se le dará la oportunidad a un nuevo equipo.\n\nReglamento\nSerá el vigente por la Federación Mexicana de Basquetbol\n\nPremios\nSe premiará con trofeos a los dos primeros lugares y dinero en efectivo\n1er lugar – $2\,500.00\n2do lugar – $1\,500.00
URL:http://clubdegolfzacatecas.com/event/torneo-de-basquetbol/
LOCATION:Club de Golf Zacatecas\, Fracc Lomas de Bernardez\, Guadalupe\, Zacatecas\, 98610\, Mexico
CATEGORIES:Basquetbol
ATTACH;FMTTYPE=image/png:http://clubdegolfzacatecas.com/wp-content/uploads/2018/11/Club-de-Golf-Zacatecas-Torneo-Basquetbol-Noviembre-2018.png
END:VEVENT
END:VCALENDAR