BEGIN:VCALENDAR
VERSION:2.0
PRODID:-// - ECPv5.14.2.1//NONSGML v1.0//EN
CALSCALE:GREGORIAN
METHOD:PUBLISH
X-ORIGINAL-URL:http://clubdegolfzacatecas.com
X-WR-CALDESC:Eventos para 
BEGIN:VTIMEZONE
TZID:America/Chicago
BEGIN:DAYLIGHT
TZOFFSETFROM:-0600
TZOFFSETTO:-0500
TZNAME:CDT
DTSTART:20180311T080000
END:DAYLIGHT
BEGIN:STANDARD
TZOFFSETFROM:-0500
TZOFFSETTO:-0600
TZNAME:CST
DTSTART:20181104T070000
END:STANDARD
END:VTIMEZONE
BEGIN:VEVENT
DTSTART;VALUE=DATE:20181124
DTEND;VALUE=DATE:20181125
DTSTAMP:20260423T130444
CREATED:20181111T222038Z
LAST-MODIFIED:20181111T222038Z
UID:2666-1543017600-1543103999@clubdegolfzacatecas.com
SUMMARY:Convivencia de Natación
DESCRIPTION:Categorias\n\n– Master 60 varonil y femenil: 75 mts estilo libre individual\n– Revelos femenil\, varonil y mixta: mil metros\n\nPruebas\n– Menores de 5 años: 25 mts patada de crawl con popote y 25 mts patada de dorso con popote\n– 6 y 7 años: 25 mts crawl y 25 mts dorso\n– 8 y 9 años: 50 mts crawl y 50 mts dorso\n– 10 y 11 años: 25 mts crawl\, 50 mts crawl\, 50 mts dorso y 50 mts pecho\n– 12\, 13 y 14 años: 50 mts crawl\, 100 mts crawl\, 50 mts dorso\, 25 mts pecho y 25 mts mariposa\n\nLibre\n50 crawl\, 100 crawl\, 50 dorso\, 50 pecho y 25 mariposa\n\nInscripciones\nEn recepción del club con un costo de:\n$150 – adulto invitado\n$100 – socio adulto\n$100 – niños\n \nNotaLos relevos tendrán que ser conformados por socio e invitado\, no puede haber relevos conformados solo por invitados. Socio inscrito tendrá derecho a un boleto para la rifa de 4 medias anualidades el 6 de Diciembre\n\nHorarios\nAdultos: 7am-9am\nAfloje niños: 9am\nInicio: 9:30am\n\nPremiación\n– Medalla a los tres primeros lugares\n– Rifa de artículos deportivos\n– Desayuno al terminar el evento\n\nTransitorios\nLos casos no previstos en la siguiente convocatoria serán resueltos de forma irrevocable por los organizadores de este evento
URL:http://clubdegolfzacatecas.com/event/convivencia-de-natacion/
LOCATION:Club de Golf Zacatecas\, Fracc Lomas de Bernardez\, Guadalupe\, Zacatecas\, 98610\, Mexico
CATEGORIES:Natación
ATTACH;FMTTYPE=image/png:http://clubdegolfzacatecas.com/wp-content/uploads/2018/11/Club-de-golf-zacatecas-convivencia-de-natacion.png
END:VEVENT
END:VCALENDAR